BEGIN:VCALENDAR
VERSION:2.0
PRODID:-//Calaveras County Women&#039;s Network - ECPv6.15.20//NONSGML v1.0//EN
CALSCALE:GREGORIAN
METHOD:PUBLISH
X-WR-CALNAME:Calaveras County Women&#039;s Network
X-ORIGINAL-URL:https://ccwnonline.org
X-WR-CALDESC:Events for Calaveras County Women&#039;s Network
REFRESH-INTERVAL;VALUE=DURATION:PT1H
X-Robots-Tag:noindex
X-PUBLISHED-TTL:PT1H
BEGIN:VTIMEZONE
TZID:America/Los_Angeles
BEGIN:DAYLIGHT
TZOFFSETFROM:-0800
TZOFFSETTO:-0700
TZNAME:PDT
DTSTART:20210314T100000
END:DAYLIGHT
BEGIN:STANDARD
TZOFFSETFROM:-0700
TZOFFSETTO:-0800
TZNAME:PST
DTSTART:20211107T090000
END:STANDARD
BEGIN:DAYLIGHT
TZOFFSETFROM:-0800
TZOFFSETTO:-0700
TZNAME:PDT
DTSTART:20220313T100000
END:DAYLIGHT
BEGIN:STANDARD
TZOFFSETFROM:-0700
TZOFFSETTO:-0800
TZNAME:PST
DTSTART:20221106T090000
END:STANDARD
BEGIN:DAYLIGHT
TZOFFSETFROM:-0800
TZOFFSETTO:-0700
TZNAME:PDT
DTSTART:20230312T100000
END:DAYLIGHT
BEGIN:STANDARD
TZOFFSETFROM:-0700
TZOFFSETTO:-0800
TZNAME:PST
DTSTART:20231105T090000
END:STANDARD
END:VTIMEZONE
BEGIN:VEVENT
DTSTART;TZID=America/Los_Angeles:20221115T173000
DTEND;TZID=America/Los_Angeles:20221115T193000
DTSTAMP:20260422T140957
CREATED:20221109T172055Z
LAST-MODIFIED:20221110T161756Z
UID:2484-1668533400-1668540600@ccwnonline.org
SUMMARY:November Meeting
DESCRIPTION:Cory Thomas-Fisk will speak with us about THE POWER OF GRATITUDE \nCory Thomas-Fisk has been involved in almost every aspect of the Construction Industry – Federal/Tribal\, Public Works\, Commercial & Residential projects\, working as a Field Engineer\, Construction & Project Manager\, Facility Director Executive\, Private Consultant\, Facilitator\, and Education Advocate for over 18 years as a College Professor. Cory is a graduate of Texas A&M University\, a Bachelor of Science & has a Master of Arts in Curriculum & Instruction. Cory’s experience lends her a unique perspective and well-rounded approach to building professional & personal life balance strategies with a focus on human design\, behavior comprehension & soft skill development\, self-awareness\, transitional skill sets\, mindset\, leadership & construction management concepts. \nPlease bring a raffle prize if you can!
URL:https://ccwnonline.org/event/november-meeting-2/
LOCATION:CA
ATTACH;FMTTYPE=image/png:https://ccwnonline.org/wp-content/uploads/cory.png
END:VEVENT
END:VCALENDAR