BEGIN:VCALENDAR
VERSION:2.0
PRODID:-//Calaveras County Women&#039;s Network - ECPv6.15.20//NONSGML v1.0//EN
CALSCALE:GREGORIAN
METHOD:PUBLISH
X-ORIGINAL-URL:https://ccwnonline.org
X-WR-CALDESC:Events for Calaveras County Women&#039;s Network
REFRESH-INTERVAL;VALUE=DURATION:PT1H
X-Robots-Tag:noindex
X-PUBLISHED-TTL:PT1H
BEGIN:VTIMEZONE
TZID:America/Los_Angeles
BEGIN:DAYLIGHT
TZOFFSETFROM:-0800
TZOFFSETTO:-0700
TZNAME:PDT
DTSTART:20210314T100000
END:DAYLIGHT
BEGIN:STANDARD
TZOFFSETFROM:-0700
TZOFFSETTO:-0800
TZNAME:PST
DTSTART:20211107T090000
END:STANDARD
BEGIN:DAYLIGHT
TZOFFSETFROM:-0800
TZOFFSETTO:-0700
TZNAME:PDT
DTSTART:20220313T100000
END:DAYLIGHT
BEGIN:STANDARD
TZOFFSETFROM:-0700
TZOFFSETTO:-0800
TZNAME:PST
DTSTART:20221106T090000
END:STANDARD
BEGIN:DAYLIGHT
TZOFFSETFROM:-0800
TZOFFSETTO:-0700
TZNAME:PDT
DTSTART:20230312T100000
END:DAYLIGHT
BEGIN:STANDARD
TZOFFSETFROM:-0700
TZOFFSETTO:-0800
TZNAME:PST
DTSTART:20231105T090000
END:STANDARD
END:VTIMEZONE
BEGIN:VEVENT
DTSTART;TZID=America/Los_Angeles:20221025T173000
DTEND;TZID=America/Los_Angeles:20221025T190000
DTSTAMP:20260419T235639
CREATED:20221010T201721Z
LAST-MODIFIED:20221010T201929Z
UID:2475-1666719000-1666724400@ccwnonline.org
SUMMARY:October General Meeting
DESCRIPTION:Jeri Cates\, Courage & Grace Coach \nJeri is a retired Nurse Practitioner who is finally living her passion as a life coach. Jeri’s superpowers include presence\, empathy\, compassion\, and inspired guidance. She brings a variety of life experiences which includes overcoming domestic violence\, homelessness\, and the loss of loved ones. Along with hypnotherapy\, Jeri offers online and in-person coaching and workshops. \n  \nJeri’s talk: \nHow to be your own best friend:  authentic self-love \nSelf-love is the foundation of you living your dreams. Learn the 4 building blocks to authentic self-love. In this talk\, you will learn powerful tools that you can apply today for immediate results.
URL:https://ccwnonline.org/event/october-general-meeting/
LOCATION:CA
ATTACH;FMTTYPE=image/png:https://ccwnonline.org/wp-content/uploads/October.png
END:VEVENT
END:VCALENDAR