BEGIN:VCALENDAR
VERSION:2.0
PRODID:-//Calaveras County Women&#039;s Network - ECPv6.15.20//NONSGML v1.0//EN
CALSCALE:GREGORIAN
METHOD:PUBLISH
X-ORIGINAL-URL:https://ccwnonline.org
X-WR-CALDESC:Events for Calaveras County Women&#039;s Network
REFRESH-INTERVAL;VALUE=DURATION:PT1H
X-Robots-Tag:noindex
X-PUBLISHED-TTL:PT1H
BEGIN:VTIMEZONE
TZID:America/Los_Angeles
BEGIN:DAYLIGHT
TZOFFSETFROM:-0800
TZOFFSETTO:-0700
TZNAME:PDT
DTSTART:20210314T100000
END:DAYLIGHT
BEGIN:STANDARD
TZOFFSETFROM:-0700
TZOFFSETTO:-0800
TZNAME:PST
DTSTART:20211107T090000
END:STANDARD
BEGIN:DAYLIGHT
TZOFFSETFROM:-0800
TZOFFSETTO:-0700
TZNAME:PDT
DTSTART:20220313T100000
END:DAYLIGHT
BEGIN:STANDARD
TZOFFSETFROM:-0700
TZOFFSETTO:-0800
TZNAME:PST
DTSTART:20221106T090000
END:STANDARD
BEGIN:DAYLIGHT
TZOFFSETFROM:-0800
TZOFFSETTO:-0700
TZNAME:PDT
DTSTART:20230312T100000
END:DAYLIGHT
BEGIN:STANDARD
TZOFFSETFROM:-0700
TZOFFSETTO:-0800
TZNAME:PST
DTSTART:20231105T090000
END:STANDARD
END:VTIMEZONE
BEGIN:VEVENT
DTSTART;TZID=America/Los_Angeles:20220628T173000
DTEND;TZID=America/Los_Angeles:20220628T190000
DTSTAMP:20260422T082845
CREATED:20220517T005837Z
LAST-MODIFIED:20220525T034240Z
UID:2432-1656437400-1656442800@ccwnonline.org
SUMMARY:June Meeting
DESCRIPTION:Karen Varni with the Soroptimists will be our speaker. She will be sharing about the Calaveras Soroptimist organization and the projects they are currently working on. \nKaren Varni is now retired after 36 years with the County of Calaveras\, the last 20 of which were as the County Clerk-Recorder and Elections Official. This included being the Registrar of Voters\, Registrar of Vital Statistics\, Commissioner of Civil Marriages\, and Ex-Officio Clerk to the Board of Supervisors. Prior to being elected\, she served as the Clerk-Administrator of the Calaveras County Superior \nCourt\, which also came with many other titles. \nKaren has two sons\, three grandsons\, and daughters-in-law that are the biggest and most important part of her life. Volunteering is something she started as a teenager and has continued as an adult. She has been a member of Soroptimist International of Calaveras County (SICC) for 31 years\, currently serving as President. \nKaren will be speaking about the history of Soroptimist International\, a global women’s service organization\, SICC\, and their contributions to women\, girls\, and families in Calaveras County\, their current projects\, and future goals.
URL:https://ccwnonline.org/event/june-meeting-2/
LOCATION:CA
ATTACH;FMTTYPE=image/jpeg:https://ccwnonline.org/wp-content/uploads/June.jpg
END:VEVENT
END:VCALENDAR