BEGIN:VCALENDAR
VERSION:2.0
PRODID:-//Calaveras County Women&#039;s Network - ECPv6.15.20//NONSGML v1.0//EN
CALSCALE:GREGORIAN
METHOD:PUBLISH
X-WR-CALNAME:Calaveras County Women&#039;s Network
X-ORIGINAL-URL:https://ccwnonline.org
X-WR-CALDESC:Events for Calaveras County Women&#039;s Network
REFRESH-INTERVAL;VALUE=DURATION:PT1H
X-Robots-Tag:noindex
X-PUBLISHED-TTL:PT1H
BEGIN:VTIMEZONE
TZID:America/Los_Angeles
BEGIN:DAYLIGHT
TZOFFSETFROM:-0800
TZOFFSETTO:-0700
TZNAME:PDT
DTSTART:20190310T100000
END:DAYLIGHT
BEGIN:STANDARD
TZOFFSETFROM:-0700
TZOFFSETTO:-0800
TZNAME:PST
DTSTART:20191103T090000
END:STANDARD
BEGIN:DAYLIGHT
TZOFFSETFROM:-0800
TZOFFSETTO:-0700
TZNAME:PDT
DTSTART:20200308T100000
END:DAYLIGHT
BEGIN:STANDARD
TZOFFSETFROM:-0700
TZOFFSETTO:-0800
TZNAME:PST
DTSTART:20201101T090000
END:STANDARD
BEGIN:DAYLIGHT
TZOFFSETFROM:-0800
TZOFFSETTO:-0700
TZNAME:PDT
DTSTART:20210314T100000
END:DAYLIGHT
BEGIN:STANDARD
TZOFFSETFROM:-0700
TZOFFSETTO:-0800
TZNAME:PST
DTSTART:20211107T090000
END:STANDARD
BEGIN:DAYLIGHT
TZOFFSETFROM:-0800
TZOFFSETTO:-0700
TZNAME:PDT
DTSTART:20220313T100000
END:DAYLIGHT
BEGIN:STANDARD
TZOFFSETFROM:-0700
TZOFFSETTO:-0800
TZNAME:PST
DTSTART:20221106T090000
END:STANDARD
BEGIN:DAYLIGHT
TZOFFSETFROM:-0800
TZOFFSETTO:-0700
TZNAME:PDT
DTSTART:20230312T100000
END:DAYLIGHT
BEGIN:STANDARD
TZOFFSETFROM:-0700
TZOFFSETTO:-0800
TZNAME:PST
DTSTART:20231105T090000
END:STANDARD
END:VTIMEZONE
BEGIN:VEVENT
DTSTART;TZID=America/Los_Angeles:20220222T173000
DTEND;TZID=America/Los_Angeles:20220222T193000
DTSTAMP:20260420T002504
CREATED:20220120T223858Z
LAST-MODIFIED:20220120T224320Z
UID:2364-1645551000-1645558200@ccwnonline.org
SUMMARY:February 2022 Meeting
DESCRIPTION:WENDY MATHIS of Hospice of Amador & Calaveras has been proudly serving our community as a non-profit Hospice for 40 years! Wendy Mathis\, Community Relations Director lives in Sutter Creek and is a multi-generation resident. She loves our small community and serving others. Wendy will share with u today the services Hospice of Amador & Calaveras provides to Calaveras County. \n 
URL:https://ccwnonline.org/event/february-2022-meeting/
LOCATION:CA
ATTACH;FMTTYPE=image/jpeg:https://ccwnonline.org/wp-content/uploads/Outlook-m2vh1qev.jpeg
END:VEVENT
BEGIN:VEVENT
DTSTART;TZID=America/Los_Angeles:20220125T173000
DTEND;TZID=America/Los_Angeles:20220125T193000
DTSTAMP:20260420T002504
CREATED:20211229T034315Z
LAST-MODIFIED:20220120T224053Z
UID:2253-1643131800-1643139000@ccwnonline.org
SUMMARY:January 2022 Meeting
DESCRIPTION:  \nDue to circumstances not under her control\, our speaker had to cancel. Check back here for our new speaker. We will post when it is confirmed. \n  \n 
URL:https://ccwnonline.org/event/january-2022-meeting/
LOCATION:CA
ATTACH;FMTTYPE=image/jpeg:https://ccwnonline.org/wp-content/uploads/2022.jpeg
END:VEVENT
BEGIN:VEVENT
DTSTART;TZID=America/Los_Angeles:20211228T173000
DTEND;TZID=America/Los_Angeles:20211228T193000
DTSTAMP:20260420T002504
CREATED:20211120T173801Z
LAST-MODIFIED:20211221T232813Z
UID:2175-1640712600-1640719800@ccwnonline.org
SUMMARY:After Christmas Holiday Party
DESCRIPTION:Please join us for a fun evening of holiday fun and games. There will be special treats and a holiday gift exchange (White Elephant style). Re-gifting is allowed and encouraged! \n 
URL:https://ccwnonline.org/event/after-christmas-holiday-meeting/
LOCATION:CA
ATTACH;FMTTYPE=image/png:https://ccwnonline.org/wp-content/uploads/Holiday-Party.png
END:VEVENT
BEGIN:VEVENT
DTSTART;TZID=America/Los_Angeles:20211116T173000
DTEND;TZID=America/Los_Angeles:20211116T193000
DTSTAMP:20260420T002504
CREATED:20211028T004230Z
LAST-MODIFIED:20211110T152230Z
UID:2163-1637083800-1637091000@ccwnonline.org
SUMMARY:November Meeting
DESCRIPTION:Our guest speaker at CCWN this month will be Jimmy Moreno\, and he will be talking about gratitude. \nJames Buffalo Moreno is a transformational leader and a practicing Shaman for over 25 years. More recently James is an author with his upcoming release\, “Sunward\,” Harvest the Life You Want by Healing the Life You Have (Spring 2022) and is co-authoring a book with Chris and Janet Atwood who wrote The NY Times Bestselling book\, “The Passion Test\,” also due to be released in Spring of 2022. (Yet to be named)
URL:https://ccwnonline.org/event/november-meeting/
LOCATION:CA
ATTACH;FMTTYPE=image/png:https://ccwnonline.org/wp-content/uploads/Screen-Shot-2021-10-27-at-5.41.30-PM.png
END:VEVENT
BEGIN:VEVENT
DTSTART;TZID=America/Los_Angeles:20211026T173000
DTEND;TZID=America/Los_Angeles:20211026T193000
DTSTAMP:20260420T002504
CREATED:20211024T192610Z
LAST-MODIFIED:20211026T175342Z
UID:2123-1635269400-1635276600@ccwnonline.org
SUMMARY:October Meeting
DESCRIPTION:Come join us for some Halloween fun!\nOur speaker is Cory Thomas-Fisk\nAngels Camp Round Table Pizza\, 5:30-7:30pm\nZoom starts @6:00pm\nCCWN is inviting you to a scheduled Zoom meeting. \nTopic: CCWN October Networking Meeting \nTime: Oct 26\, 2021 05:30 PM Pacific Time (US and Canada) \nJoin Zoom Meeting \nhttps://us02web.zoom.us/j/87513484403?pwd=NTBhV1RWZHpkRStmRFhSRjdHNk91QT09 \nMeeting ID: 875 1348 4403 \nPasscode: 512318 \n 
URL:https://ccwnonline.org/event/october-meeting/
LOCATION:CA
ATTACH;FMTTYPE=image/jpeg:https://ccwnonline.org/wp-content/uploads/Cory-Thomas-Fisk.jpg
END:VEVENT
BEGIN:VEVENT
DTSTART;TZID=America/Los_Angeles:20210928T173000
DTEND;TZID=America/Los_Angeles:20210928T193000
DTSTAMP:20260420T002504
CREATED:20210825T144112Z
LAST-MODIFIED:20210825T144316Z
UID:2048-1632850200-1632857400@ccwnonline.org
SUMMARY:September Meeting
DESCRIPTION:Lasagna Love\nMarcia Duggan will be our speaker from the non-profit organization\, Lasagna Love. \nLasagna Love was started at the beginning of the pandemic when the founder of Good to Mama was looking for a way to help moms in her community. She and her toddler started making and delivering meals to families in the neighborhood who were struggling\, whether that struggle was financial\, emotional\, or simply a feeling of overwhelm. \nMore information will be posted here. In the meantime\, you can visit the Lasagna Love website for more information. https://lasagnalove.org/
URL:https://ccwnonline.org/event/september-meeting/
LOCATION:CA
ATTACH;FMTTYPE=image/png:https://ccwnonline.org/wp-content/uploads/Screen-Shot-2021-08-25-at-7.27.50-AM.png
END:VEVENT
BEGIN:VEVENT
DTSTART;TZID=America/Los_Angeles:20210824T173000
DTEND;TZID=America/Los_Angeles:20210824T193000
DTSTAMP:20260420T002504
CREATED:20210801T221114Z
LAST-MODIFIED:20210815T214337Z
UID:1989-1629826200-1629833400@ccwnonline.org
SUMMARY:August Meeting
DESCRIPTION:Rescued Performing Animals at PAWS\nOur speaker this month is Dr. Chris Draper\, Director at Performing Animal Welfare Society (PAWS) located in Angels Camp\, CA. He studied zoology and primatology at University College London before beginning a career in animal protection. His work has involved investigation\, research\, and generating awareness regarding the welfare and conservation of animals. He worked at the Born Free Foundation\, UK-based international animal welfare\, and conservation organization\, for 16 years\, becoming their Head of Animal Welfare & Captivity. His Doctorate\, completed at the University of Bristol\, focused on the implementation of legislation and assessment of animal welfare in zoos. Chris also sits on the UK’s Government-advisory Zoos Expert Committee\, and the Accreditation Committee for the Global Federation of Animal Sanctuaries. In late 2020\, he moved to California with his family to take up a Director role at the Performing Animal Welfare Society (PAWS). Among other things\, PAWS takes care of eight rescued elephants\, fourteen tigers\, and three bears at their 2\,000-acre site in San Andreas.
URL:https://ccwnonline.org/event/august-meeting/
LOCATION:CA
ATTACH;FMTTYPE=image/jpeg:https://ccwnonline.org/wp-content/uploads/IMG_6547.jpg
END:VEVENT
BEGIN:VEVENT
DTSTART;TZID=America/Los_Angeles:20210727T173000
DTEND;TZID=America/Los_Angeles:20210727T193000
DTSTAMP:20260420T002504
CREATED:20210714T002603Z
LAST-MODIFIED:20210714T213939Z
UID:1975-1627407000-1627414200@ccwnonline.org
SUMMARY:July General Meeting - Traveling Updates and Covid
DESCRIPTION:Our speaker is Maureen Dinnocenzo\, owner-advisor of Above & Beyond Travel- a full-service travel agency that includes air\, rail\, cruises\, resorts\, tours\, group travel & more. Maureen has been awarded “2012 Best Group Sales Effort” runner-up of the West coast by Travel Age West journal. In 2015\, 2019 & 2021\, she has been recognized at the Global Travel Market as one of the top Elite 100 travel professionals in the United States. She has been a certified travel advisor since 2005. Her certifications include CTA\, Certified Travel Associate by the Travel Institute\, ACC (Accredited Cruise Counselor)\, MCC (Master Cruise Counselor)\, ECC (Elite Cruise Counselor) by the Cruise Lines International Association\, Inc. She has been awarded certifications from Hawaii (Master specialist for Oahu\, Maui\, Lanai\, Molokai\, Kauai\, & Big Is. of Hawaii) & Alaska state Visitors Bureau. In addition\, she has earned accreditations from the Tourism Board of South Africa New Zealand\, Fiji\, Tahiti\, Australia\, Ireland\, Greece\, Mexico & Portugal. Annually\, she updates her knowledge of the world by attending travel seminars and/or visiting destinations. She recently returned from a 2-week travel educational study in Croatia. She has taken groups from 16 to 300 on tours & cruises throughout the world. Ask her about group rates\, amenities & a possible free trip for the group organizer! She prides herself on giving her clients personal attention & her expertise before\, during & after their dream vacations.
URL:https://ccwnonline.org/event/july-general-meeting/
LOCATION:CA
ATTACH;FMTTYPE=image/png:https://ccwnonline.org/wp-content/uploads/maureen.png
END:VEVENT
BEGIN:VEVENT
DTSTART;TZID=America/Los_Angeles:20210525T173000
DTEND;TZID=America/Los_Angeles:20210525T200000
DTSTAMP:20260420T002504
CREATED:20210524T205051Z
LAST-MODIFIED:20210526T012855Z
UID:1919-1621963800-1621972800@ccwnonline.org
SUMMARY:May General Online Meeting
DESCRIPTION:May 25\, 2021\n5:30-8:00pm\n\nJoin Zoom Meeting \nhttps://us02web.zoom.us/j/83769731676?pwd=TG5VbmxuQnZ5NU9ZYVlMWjA5enJ3Zz09 \nMeeting ID: 837 6973 1676 \nPasscode: 629277 \n\nJoin us for a great evening of networking via Zoom.\nAngela Gardener will be speaking at our May meeting.\nHer current project is Biscotti Park\nA 100 Coffees Virtual Village where she helps women speakers to discover\, develop and deliver their signature talk to their divinely designed audience\, then she helps them to connect with and engage their audience inactive\, online communities within the Village.\nCome hear how we can create online communities in our forever-changing world.\nConsider donating a raffle prize! Our raffle proceeds go to a different Calaveras County charity every\nquarter.\nPurchase Raffle Tickets Here\n\n\n\nScroll down to view this month’s raffle prizes.\n\n\n\n\n\n\n\n\n  \n\n\n\n\n\n\n			\n				\n			\n				\n				1- $10 Day-O Gift Cert Plus Cute Flamingo Pal\n				\n			\n				\n			\n				\n				2- Clear Proof Deep Cleansing Charcoal Mask \n				\n			\n				\n			\n				\n				3- Mia Bella Free Spirit 16oz candle \n				\n			\n				\n			\n				\n				4- $10 Day-O-Espresso \n				\n			\n				\n			\n				\n				5- Jewelry\n				\n			\n				\n			\n				\n				6- Organizer\n				\n			\n				\n			\n				\n				7- Tea Assortment
URL:https://ccwnonline.org/event/may-general-online-meeting/
LOCATION:CA
ATTACH;FMTTYPE=image/jpeg:https://ccwnonline.org/wp-content/uploads/ccwn.jpeg
END:VEVENT
BEGIN:VEVENT
DTSTART;TZID=America/Los_Angeles:20210427T173000
DTEND;TZID=America/Los_Angeles:20210427T193000
DTSTAMP:20260420T002504
CREATED:20210411T232146Z
LAST-MODIFIED:20210428T010357Z
UID:1852-1619544600-1619551800@ccwnonline.org
SUMMARY:April General Meeting
DESCRIPTION:Join us for a great evening of networking via Zoom.\nLaurie Ginannini will be our speaker and talking about how she helped Frogtown USA get Back into the Saddle for the 2021 Calaveras County Fair and Jumping Frog Jubilee. Laurie brought back a much-needed community event amidst COVID regulations and will tell us how Frogtown USA will bring the community back together.\n\nThis event is a great way to showcase your business and Laurie will tell us how we can be involved.\n\nConsider donating a raffle prize! Our raffle proceeds go to a different Calaveras County charity every\nquarter.\n\nMeeting information below:\nCCWN is inviting you to a scheduled Zoom meeting.\nTopic: CCWN April Networking Meeting\nTime: Apr 27\, 2021 05:30 PM Pacific Time (US and Canada)\nJoin Zoom Meeting\nhttps://us02web.zoom.us/j/84094901956…\nMeeting ID: 840 9490 1956\nPasscode: 796115\nPurchase Raffle Tickets Here\n\n			\n				\n			\n				\n				Solar light – Amy\n				\n			\n				\n			\n				\n				Dumbrella Mug – Amy\n				\n			\n				\n			\n				\n				I Bag Your Pardon – Amy\n				\n			\n				\n			\n				\n				A Bag of Mia Melts – Steffanie Reed\n				\n			\n				\n			\n				\n				Elephant Wine Mug – Mary\n				\n			\n				\n			\n				\n				$10 Day-O-Espresso – Sharlene\n				\n			\n				\n			\n				\n				4- $10 Day-O-Espresso
URL:https://ccwnonline.org/event/april-general-meeting/
LOCATION:CA
END:VEVENT
BEGIN:VEVENT
DTSTART;TZID=America/Los_Angeles:20210323T173000
DTEND;TZID=America/Los_Angeles:20210323T190000
DTSTAMP:20260420T002504
CREATED:20210321T020820Z
LAST-MODIFIED:20210411T231927Z
UID:1801-1616520600-1616526000@ccwnonline.org
SUMMARY:March General Meeting
DESCRIPTION:Latest Information About Covid Small Business Funding\n\n\nHoward White\nMeet our Speaker: Howard White \n\n\n\n\nHoward earned a degree in software engineering from UC Berkeley\, and a certification in Project Management (Project Management Professional) with a career in leading the design\, development\, implementation\, and ongoing support of technical solutions and process re-engineering to solve complex business challenges for Fortune 50 companies. Working for SBDC and for SCORE\, Howard has transitioned from large 100-person projects into a hundred smaller projects – helping individuals\, mom ‘n pop shops\, small businesses\, and non-profit organizations overcome the same challenges larger companies face\, but on a much smaller scale and without hundreds of employees.\n\n\nHoward helps start-up and existing businesses understand the steps needed to develop business concepts and growth strategy\, calculate financial projections and obtain loans\, start their ventures\, operate efficiently and profitably\, identify new markets\, and attract new customers. He leads the Business Start-up workshops in Tuolumne County\, and truly enjoys helping small business owners launch\, grow\, meet their own definition of success.\n\nMeeting Agenda \n\n\n\n\n5:30 Login\, adjust sound & video \n6:00 Call to order \n6:00-6:30 Informercials & testimonials \n6:30-6:35 Introduction of speaker \n6:35-7:15 Speaker \n\n\n\nWould you be willing to purchase a gift certificate for the raffle? \nThere will even be an online raffle. We encourage you to donate a gift certificate from your own business or for take-out or delivery meals from a local Calaveras restaurant or a gift certificate from a local merchant. Take a photo of the gift certificate or prize and email it to Mary Phoenix so we can add it to the raffle. \nHold on to the gift certificates. After the meeting\, we will put you in touch with the person who won and you can arrange to send them through the mail\, deliver digitally\, or arrange for pick up. Try calling a local restaurant and see if you can purchase over the phone and have it waiting for the winner.\nScroll down to view this month’s raffle prizes.\n\n\n\n\n\n\n\n\nPurchase Raffle Tickets Here\n\n\n\n\n\n\n\n\nJoin Zoom Meeting\nhttps://us02web.zoom.us/j/86531543591?pwd=UG1QemwxOS81K1BRZUNaVGllb0ZRZz09 \nMeeting ID: 865 3154 3591 \nPasscode: 762459 \n\n			\n				\n			\n				\n				1.) $20 SM Gift Cert. \n				\n			\n				\n			\n				\n				2.) Ceramic Seahorse\n				\n			\n				\n			\n				\n				3.) Ceramic Trout\n				\n			\n				\n			\n				\n				4.) Lawman Meat Rub\n				\n			\n				\n			\n				\n				5.) Armrest Organizer\n				\n			\n				\n			\n				\n				6.) $20 Moke-A-Java\n				\n			\n				\n			\n				\n				7.) 16oz Mia Bella Candle
URL:https://ccwnonline.org/event/march-general-meeting/
LOCATION:CA
ATTACH;FMTTYPE=image/png:https://ccwnonline.org/wp-content/uploads/Howard.png
END:VEVENT
BEGIN:VEVENT
DTSTART;TZID=America/Los_Angeles:20201124T173000
DTEND;TZID=America/Los_Angeles:20201124T193000
DTSTAMP:20260420T002504
CREATED:20201110T194249Z
LAST-MODIFIED:20201111T172748Z
UID:1733-1606239000-1606246200@ccwnonline.org
SUMMARY:November 2020 Virtual Meeting
DESCRIPTION:This month’s event is about exploring our strengths! \nOur special guest speaker will be Donna Wilson. As the founding director of Sierra NonProfit Services (SNS) in Sonora\, her professional experience includes 20+ years as a consultant\, planning and implementing training and development in government\, business\, and nonprofits. Donna is a Certified Consultant for Board Source (formerly the National Association of NonProfit Boards) and coach for both Gallo StrengthsFinder and Cue-Box groups. As the initial ED of Sierra NonProfit Services\, she directed a research grant from the David and Lucile Packard Foundation to create Sierra NonProfit Services \n  \n  \n\nMeeting Agenda \n\n\n\n\n5:30 Login\, adjust sound & video \n6:00 Call to order \n6:00-6:30 Informercials & testimonials \n6:30-6:35 Introduction of speaker \n6:35-7:15 Speaker \n\n\n\nWould you be willing to purchase a gift certificate for the raffle? \nThere will even be an online raffle. We encourage you to donate a gift certificate from your own business or for take-out or delivery meals from a local Calaveras restaurant or for a gift certificate from a local merchant. Take a photo of the gift certificate and email it to Mary Phoenix so we can add it to the raffle item page. Check out the prices and winners from previous months in the right sidebar. \nBut hold on to the gift certificates. After the meeting\, we will put you in touch with the person who won and you can arrange to send them through the mail\, deliver digitally\, or arrange for pick up. Try calling a local restaurant and see if you can purchase over the phone and have it waiting for the winner. \n\n\n\n\n\n\nPreview Raffle PrizesPurchase Raffle Tickets here. \n\n\n\nJoin Zoom Meeting\n\n\n\n\nhttps://us02web.zoom.us/j/88162342007?pwd=SWNTdzI4Tk84TXl2NWxZRFd6dHFtZz09\nMeeting ID: 881 6234 2007\nPasscode: 542861
URL:https://ccwnonline.org/event/november-2020-virtual-meeting/
LOCATION:CA
END:VEVENT
END:VCALENDAR