BEGIN:VCALENDAR
VERSION:2.0
PRODID:-//Calaveras County Women&#039;s Network - ECPv6.15.20//NONSGML v1.0//EN
CALSCALE:GREGORIAN
METHOD:PUBLISH
X-WR-CALNAME:Calaveras County Women&#039;s Network
X-ORIGINAL-URL:https://ccwnonline.org
X-WR-CALDESC:Events for Calaveras County Women&#039;s Network
REFRESH-INTERVAL;VALUE=DURATION:PT1H
X-Robots-Tag:noindex
X-PUBLISHED-TTL:PT1H
BEGIN:VTIMEZONE
TZID:America/Los_Angeles
BEGIN:DAYLIGHT
TZOFFSETFROM:-0800
TZOFFSETTO:-0700
TZNAME:PDT
DTSTART:20220313T100000
END:DAYLIGHT
BEGIN:STANDARD
TZOFFSETFROM:-0700
TZOFFSETTO:-0800
TZNAME:PST
DTSTART:20221106T090000
END:STANDARD
BEGIN:DAYLIGHT
TZOFFSETFROM:-0800
TZOFFSETTO:-0700
TZNAME:PDT
DTSTART:20230312T100000
END:DAYLIGHT
BEGIN:STANDARD
TZOFFSETFROM:-0700
TZOFFSETTO:-0800
TZNAME:PST
DTSTART:20231105T090000
END:STANDARD
BEGIN:DAYLIGHT
TZOFFSETFROM:-0800
TZOFFSETTO:-0700
TZNAME:PDT
DTSTART:20240310T100000
END:DAYLIGHT
BEGIN:STANDARD
TZOFFSETFROM:-0700
TZOFFSETTO:-0800
TZNAME:PST
DTSTART:20241103T090000
END:STANDARD
END:VTIMEZONE
BEGIN:VEVENT
DTSTART;TZID=America/Los_Angeles:20230228T173000
DTEND;TZID=America/Los_Angeles:20230228T193000
DTSTAMP:20260422T211349
CREATED:20230126T031410Z
LAST-MODIFIED:20230228T003149Z
UID:2518-1677605400-1677612600@ccwnonline.org
SUMMARY:- Cancelled due to Inclement Weather
DESCRIPTION:THIS MEETING IS CANCELLED DUE to INCLEMENT WEATHER\nBonnie Miller\nLori Hawkins\nBonnie Miller has been an entrepreneur and business owner in Calaveras county for 30+ years\, building\, owning\, and running restaurants. She’s been in the financial world of educating and helping women and now is excited about her new venture\, joining forces with her good friend of 20 years and business associate\, Lori Hawkins. They will share some thoughts on the housing industry\, different programs\, and some enlightening motivating thoughts for women in a quality business with people you love! Having fun with the passion of helping each other on this journey! \nYOU WILL LOVE OUR SPEAKERS FOR FEBRUARY! PLEASE JOIN US. \n 
URL:https://ccwnonline.org/event/february-meeting/
LOCATION:CA
ATTACH;FMTTYPE=image/jpeg:https://ccwnonline.org/wp-content/uploads/Lori.jpg
END:VEVENT
END:VCALENDAR