BEGIN:VCALENDAR
VERSION:2.0
PRODID:-//Calaveras County Women&#039;s Network - ECPv6.15.20//NONSGML v1.0//EN
CALSCALE:GREGORIAN
METHOD:PUBLISH
X-WR-CALNAME:Calaveras County Women&#039;s Network
X-ORIGINAL-URL:https://ccwnonline.org
X-WR-CALDESC:Events for Calaveras County Women&#039;s Network
REFRESH-INTERVAL;VALUE=DURATION:PT1H
X-Robots-Tag:noindex
X-PUBLISHED-TTL:PT1H
BEGIN:VTIMEZONE
TZID:America/Los_Angeles
BEGIN:DAYLIGHT
TZOFFSETFROM:-0800
TZOFFSETTO:-0700
TZNAME:PDT
DTSTART:20220313T100000
END:DAYLIGHT
BEGIN:STANDARD
TZOFFSETFROM:-0700
TZOFFSETTO:-0800
TZNAME:PST
DTSTART:20221106T090000
END:STANDARD
BEGIN:DAYLIGHT
TZOFFSETFROM:-0800
TZOFFSETTO:-0700
TZNAME:PDT
DTSTART:20230312T100000
END:DAYLIGHT
BEGIN:STANDARD
TZOFFSETFROM:-0700
TZOFFSETTO:-0800
TZNAME:PST
DTSTART:20231105T090000
END:STANDARD
BEGIN:DAYLIGHT
TZOFFSETFROM:-0800
TZOFFSETTO:-0700
TZNAME:PDT
DTSTART:20240310T100000
END:DAYLIGHT
BEGIN:STANDARD
TZOFFSETFROM:-0700
TZOFFSETTO:-0800
TZNAME:PST
DTSTART:20241103T090000
END:STANDARD
END:VTIMEZONE
BEGIN:VEVENT
DTSTART;TZID=America/Los_Angeles:20230124T173000
DTEND;TZID=America/Los_Angeles:20230124T193000
DTSTAMP:20260422T182211
CREATED:20230109T154606Z
LAST-MODIFIED:20230109T154606Z
UID:2508-1674581400-1674588600@ccwnonline.org
SUMMARY:January Meeting
DESCRIPTION:Maureen Dinnocenzo will be our speaker\, and she will share her 2022 travel experiences.\n\nMaureen is the owner-agent of Above & Beyond Travel—a full-service travel agency that includes air\, rail\, cruises\, resorts\, tours\, group travel & more. Maureen has been awarded “2012 Best Group Sales Effort” runner-up of the West coast by Travel Age West Journal. In 2015\, 2017 & 2021\, she has been recognized by the Global Travel Market as one of the top 100 Elite Travel Advisors in the United States. She has been a certified travel advisor since 2005. Her certifications include CTA\, Certified Travel Associate by the Travel Institute\, ACC (Accredited Cruise Counselor)\, MCC (Master Cruise Counselor)\, ECC (Elite Cruise Counselor) by the Cruise Lines International Association\, Inc.\, VTA (Certified Verified Travel Advisor) She has been awarded certifications from Hawaii (Master specialist for Oahu\, Maui\, Lanai\, Molokai\, Kauai\, & Big Island of Hawaii) & Alaska state Visitors Bureau. In addition\, she has earned accreditations from the Tourism Board of Africa\, New Zealand\, Fiji\, Ireland\, Greece\, Mexico & Portugal. Annually\, she updates her knowledge of the world by attending travel seminars and/or visiting destinations.\nMaureen has taken groups from 16 to 300 on tours & cruises throughout the world. Ask her about group rates\, amenities & possible FREE TRIP for the group organizer! She prides herself on giving her clients personal attention & her expertise before\, during & after their dream vacations.\n\nPlease join us and bring a raffle prize if you can!
URL:https://ccwnonline.org/event/january-meeting/
LOCATION:CA
ATTACH;FMTTYPE=image/jpeg:https://ccwnonline.org/wp-content/uploads/Maureen.jpeg
END:VEVENT
END:VCALENDAR